BEGIN:VCALENDAR
VERSION:2.0
PRODID:-//Szekeres László Alapítvány - ECPv6.15.11//NONSGML v1.0//EN
CALSCALE:GREGORIAN
METHOD:PUBLISH
X-ORIGINAL-URL:https://www.szla.org.rs/web
X-WR-CALDESC:Események Szekeres László Alapítvány
REFRESH-INTERVAL;VALUE=DURATION:PT1H
X-Robots-Tag:noindex
X-PUBLISHED-TTL:PT1H
BEGIN:VTIMEZONE
TZID:Europe/Budapest
BEGIN:DAYLIGHT
TZOFFSETFROM:+0100
TZOFFSETTO:+0200
TZNAME:CEST
DTSTART:20230326T010000
END:DAYLIGHT
BEGIN:STANDARD
TZOFFSETFROM:+0200
TZOFFSETTO:+0100
TZNAME:CET
DTSTART:20231029T010000
END:STANDARD
BEGIN:DAYLIGHT
TZOFFSETFROM:+0100
TZOFFSETTO:+0200
TZNAME:CEST
DTSTART:20240331T010000
END:DAYLIGHT
BEGIN:STANDARD
TZOFFSETFROM:+0200
TZOFFSETTO:+0100
TZNAME:CET
DTSTART:20241027T010000
END:STANDARD
BEGIN:DAYLIGHT
TZOFFSETFROM:+0100
TZOFFSETTO:+0200
TZNAME:CEST
DTSTART:20250330T010000
END:DAYLIGHT
BEGIN:STANDARD
TZOFFSETFROM:+0200
TZOFFSETTO:+0100
TZNAME:CET
DTSTART:20251026T010000
END:STANDARD
END:VTIMEZONE
BEGIN:VEVENT
DTSTART;TZID=Europe/Budapest:20240611T170000
DTEND;TZID=Europe/Budapest:20240611T183000
DTSTAMP:20260424T042914
CREATED:20240423T085352Z
LAST-MODIFIED:20240606T172655Z
UID:738-1718125200-1718130600@www.szla.org.rs
SUMMARY:A Szakkör - Hímzés
DESCRIPTION:Az emberiség megjelenése óta fejlődő\, mára már hihetetlen technikai gazdagsággal rendelkező szakág a hímzés. Generációról generációra megújulni képes önmegvalósító\, nyugtató tevékenység. Formáld\, éltesd te is népi hímzőkultúránkat!A 2023/2024-es évben a SZLA is csatlakozott a Nemzeti Művelődési Intézet tudásmegosztó online felületéhez\, A Szakkör foglalkozásaihoz. Az A Szakkör program támogatója a lakitelki Nemzeti Művelődési Intézet\, vajdasági koordinátora pedig a magyarkanizsai székhelyű Felnőttképzők Regionális Hálózata FERHA.Január 30-től 17.00-18.30 óra között\, 20 kedden keresztül a hímzés sokoldalúságát sajátíthatják el az érdeklődők. 5 személy jelentkezését várjuk\, akik szívesen kézműveskednének és barátkoznának új technikák megtanulása mellett.A részvétel ingyenes. Jelentkezni a SZLA Facebook oldalán üzenetben\, a szla.pr@szla.org.rs e-mail-címen vagy a 024/672-110 telefonszámon lehet.
URL:https://www.szla.org.rs/web/event/a-szakkor-himzes/
LOCATION:Szekeres László Alapítvány\, Makszim Gorkij u. 6/A\, Szabadka\, 24000\, Szerbia
ATTACH;FMTTYPE=image/jpeg:https://www.szla.org.rs/web/wp-content/uploads/2024/04/438096191_830531079107365_7211511292922923605_n.jpg
END:VEVENT
END:VCALENDAR