BEGIN:VCALENDAR
VERSION:2.0
PRODID:-//Szekeres László Alapítvány - ECPv6.15.11//NONSGML v1.0//EN
CALSCALE:GREGORIAN
METHOD:PUBLISH
X-WR-CALNAME:Szekeres László Alapítvány
X-ORIGINAL-URL:https://www.szla.org.rs/web
X-WR-CALDESC:Események Szekeres László Alapítvány
REFRESH-INTERVAL;VALUE=DURATION:PT1H
X-Robots-Tag:noindex
X-PUBLISHED-TTL:PT1H
BEGIN:VTIMEZONE
TZID:Europe/Budapest
BEGIN:DAYLIGHT
TZOFFSETFROM:+0100
TZOFFSETTO:+0200
TZNAME:CEST
DTSTART:20250330T010000
END:DAYLIGHT
BEGIN:STANDARD
TZOFFSETFROM:+0200
TZOFFSETTO:+0100
TZNAME:CET
DTSTART:20251026T010000
END:STANDARD
BEGIN:DAYLIGHT
TZOFFSETFROM:+0100
TZOFFSETTO:+0200
TZNAME:CEST
DTSTART:20260329T010000
END:DAYLIGHT
BEGIN:STANDARD
TZOFFSETFROM:+0200
TZOFFSETTO:+0100
TZNAME:CET
DTSTART:20261025T010000
END:STANDARD
BEGIN:DAYLIGHT
TZOFFSETFROM:+0100
TZOFFSETTO:+0200
TZNAME:CEST
DTSTART:20270328T010000
END:DAYLIGHT
BEGIN:STANDARD
TZOFFSETFROM:+0200
TZOFFSETTO:+0100
TZNAME:CET
DTSTART:20271031T010000
END:STANDARD
END:VTIMEZONE
BEGIN:VEVENT
DTSTART;TZID=Europe/Budapest:20260408T090000
DTEND;TZID=Europe/Budapest:20260424T170000
DTSTAMP:20260424T015548
CREATED:20260330T111729Z
LAST-MODIFIED:20260330T111729Z
UID:21063-1775638800-1777050000@www.szla.org.rs
SUMMARY:Konduktív pedagógiai fejlesztés Szabadkán – Semmelweis Egyetem Pető Adrás Kar
DESCRIPTION:Konduktív fejlesztés Szabadkán – Semmelweis Egyetem Pető András Kar2026. április 8. – 2026. április 24.\nA Szekeres László Alapítvány keretén belül ismét megszervezésre kerül a budapesti székhelyű Semmelweis Egyetem Pető András Karának intenzív kurzusa\, mely a központi idegrendszeri sérülésekkel küzdő személyek számára nyújt lehetőséget a fejlesztésre.\nA 2026. április 8-án\, szerdán kezdődő\, három héten át tartó kurzus Szabadkán a Vackor Magyar Iskoláskor Előtti Nevelő- és Gyakorlóintézmény (Radić fivérek utca 67.)\, valamint a Szekeres László Alapítvány épületében (Makszim Gorkij u. 6/A.) párhuzamosan fog zajlani.A háromhetes időszakban a rendszeres fejlesztés mellett szűrővizsgálatokra\, új GYERMEKEK és felnőttek felvételére is sor kerül.\nEzekre az alkalmakra a szakemberek a központi idegrendszer-sérüléssel rendelkező személyeket várnak\, akiknek vezető tünete valamilyen mozgássérülés (Parkinson-kór\, Sclerosis Multiplex\, stroke\, agyvérzés\, születést követő oxigénhiány stb.).\nA szűrésre a Szekeres László Alapítvány munkatársánál a 024/672-110-es telefonszámon lehet jelentkezni hétköznaponként délelőtt 9 órától délután 3 óráig.\nA fejlesztés a Magyar Kormány\, a Nemzetpolitikai Államtitkárság és a Bethlen Gábor alapkezelő Zrt. támogatásával valósul meg a Szekeres László Alapítvány szervezésében\, a konduktor alapképzés részeként.\nTisztelettel\,a Szekeres csapata
URL:https://www.szla.org.rs/web/event/konduktiv-pedagogiai-fejlesztes-szabadkan-semmelweis-egyetem-peto-adras-kar/
LOCATION:Szekeres László Alapítvány\, Makszim Gorkij u. 6/A\, Szabadka\, 24000\, Szerbia
ATTACH;FMTTYPE=image/jpeg:https://www.szla.org.rs/web/wp-content/uploads/2026/03/657227717_1371319821695152_956949521674445086_n.jpg
END:VEVENT
BEGIN:VEVENT
DTSTART;TZID=Europe/Budapest:20260414T150000
DTEND;TZID=Europe/Budapest:20260424T180000
DTSTAMP:20260424T015548
CREATED:20260414T210832Z
LAST-MODIFIED:20260414T210832Z
UID:21229-1776178800-1777053600@www.szla.org.rs
SUMMARY:Konduktív fejlesztés Zentán – Semmelweis Egyetem Pető András Kar
DESCRIPTION:A Szekeres László Alapítvány keretén belül ismét megszervezésre kerül a budapesti székhelyű Semmelweis Egyetem Pető András Karának intenzív kurzusa\, mely a központi idegrendszeri sérülésekkel küzdő személyek számára nyújt lehetőséget a fejlesztésre.\nA 2026. április 14-én\, szerdán kezdődő\, három héten át tartó kurzus Zentán a Pro Sciencia Naturae Alapítványban zajlik (Ősz utca 18.).\nA háromhetes időszakban a rendszeres fejlesztés mellett szűrővizsgálatokra\, új GYERMEKEK és felnőttek felvételére is sor kerül.\nEzekre az alkalmakra a szakemberek a központi idegrendszer-sérüléssel rendelkező személyeket várnak\, akiknek vezető tünete valamilyen mozgássérülés (Parkinson-kór\, Sclerosis Multiplex\, stroke\, agyvérzés\, születést követő oxigénhiány stb.).\nA szűrésre a 063-788-74-17-es telefonszámon lehet jelentkezni hétköznaponként délelőtt 9 órától délután 3 óráig.\nA fejlesztés a Magyar Kormány\, a Nemzetpolitikai Államtitkárság és a Bethlen Gábor alapkezelő Zrt. támogatásával valósul meg a Szekeres László Alapítvány szervezésében\, a konduktor alapképzés részeként.\nTisztelettel\,a Szekeres csapata
URL:https://www.szla.org.rs/web/event/konduktiv-fejlesztes-zentan-semmelweis-egyetem-peto-andras-kar/
ATTACH;FMTTYPE=image/jpeg:https://www.szla.org.rs/web/wp-content/uploads/2026/04/672668734_1386384903521977_6092768211561078646_n.jpg
END:VEVENT
BEGIN:VEVENT
DTSTART;TZID=Europe/Budapest:20260424T170000
DTEND;TZID=Europe/Budapest:20260424T183000
DTSTAMP:20260424T015548
CREATED:20250908T141449Z
LAST-MODIFIED:20260422T140613Z
UID:16155-1777050000-1777055400@www.szla.org.rs
SUMMARY:Mesekuckó - interaktív műhelyfoglalkozás
DESCRIPTION:Mesekuckó interaktív műhelyfoglalkozásra várjuk a 3-6 éves gyerekeket 2025. október 10-től péntekenként 17.00 és 18.30 óra között a Szekeres László Alapítványba.A foglalkozásunk középpontjában a 100 magyar népmese áll animációs és szóban előadott változattal. Miért? Mert a gyermekeket életre nevelni közös\, játékos tanulással és a népi bölcsességek átadásával lehet.Nálunk minden gyermek hős és kiállja a próbát!A mesekuckósok megtapasztalhatják a teljesítmény\, a kollektív siker és az alapvető tevékenységek\, a közös munka és alkotás örömét.A foglalkozáson való részvétel ingyenes\, de előzetes regisztrációhoz kötött. Jelentkezni az alábbi elérhetőségek egyikén lehet: +381 (0)24-672-110\, a szla.pr@szla.org.rs címen\, vagy a Szekeres László Alapítvány Facebook-oldalán üzenetben. Szeretettel várunk Benneteket!
URL:https://www.szla.org.rs/web/event/mesekucko-interaktiv-muhelyfoglalkozas/
LOCATION:Szekeres László Alapítvány\, Makszim Gorkij u. 6/A\, Szabadka\, 24000\, Szerbia
ATTACH;FMTTYPE=image/jpeg:https://www.szla.org.rs/web/wp-content/uploads/2025/09/544839046_1201783621982107_4012372753025121163_n.jpg
END:VEVENT
END:VCALENDAR